BEGIN:VCALENDAR
VERSION:2.0
PRODID:-//Valley View Casino &amp; Hotel - ECPv6.15.20//NONSGML v1.0//EN
CALSCALE:GREGORIAN
METHOD:PUBLISH
X-ORIGINAL-URL:https://valleyviewcasino.com
X-WR-CALDESC:Events for Valley View Casino &amp; Hotel
REFRESH-INTERVAL;VALUE=DURATION:PT1H
X-Robots-Tag:noindex
X-PUBLISHED-TTL:PT1H
BEGIN:VTIMEZONE
TZID:America/Los_Angeles
BEGIN:DAYLIGHT
TZOFFSETFROM:-0800
TZOFFSETTO:-0700
TZNAME:PDT
DTSTART:20240310T100000
END:DAYLIGHT
BEGIN:STANDARD
TZOFFSETFROM:-0700
TZOFFSETTO:-0800
TZNAME:PST
DTSTART:20241103T090000
END:STANDARD
BEGIN:DAYLIGHT
TZOFFSETFROM:-0800
TZOFFSETTO:-0700
TZNAME:PDT
DTSTART:20250309T100000
END:DAYLIGHT
BEGIN:STANDARD
TZOFFSETFROM:-0700
TZOFFSETTO:-0800
TZNAME:PST
DTSTART:20251102T090000
END:STANDARD
BEGIN:DAYLIGHT
TZOFFSETFROM:-0800
TZOFFSETTO:-0700
TZNAME:PDT
DTSTART:20260308T100000
END:DAYLIGHT
BEGIN:STANDARD
TZOFFSETFROM:-0700
TZOFFSETTO:-0800
TZNAME:PST
DTSTART:20261101T090000
END:STANDARD
BEGIN:DAYLIGHT
TZOFFSETFROM:-0800
TZOFFSETTO:-0700
TZNAME:PDT
DTSTART:20270314T100000
END:DAYLIGHT
BEGIN:STANDARD
TZOFFSETFROM:-0700
TZOFFSETTO:-0800
TZNAME:PST
DTSTART:20271107T090000
END:STANDARD
END:VTIMEZONE
BEGIN:VEVENT
DTSTART;VALUE=DATE:20251023
DTEND;VALUE=DATE:20251024
DTSTAMP:20260423T084606
CREATED:20250802T012253Z
LAST-MODIFIED:20250802T012325Z
UID:9964-1761177600-1761263999@valleyviewcasino.com
SUMMARY:Thirsty Thursdays
DESCRIPTION:Thirsty Thursdays\nJoin us at Valley View Casino & Hotel for our Thirsty Thursdays promotion where you can sip on $5 ice-cold draft beer\, $6 hand-selected wines and $7 refreshing cocktails. Enjoy these specials throughout the casino and at any of our restaurants or bars.
URL:https://valleyviewcasino.com/promotion/thirsty-thursdays-2/
LOCATION:Throughout the Casino
ATTACH;FMTTYPE=image/webp:https://valleyviewcasino.com/wp-content/uploads/2025/04/promo-tile-thirstythursdays.jpg.webp
END:VEVENT
BEGIN:VEVENT
DTSTART;TZID=America/Los_Angeles:20260205T100000
DTEND;TZID=America/Los_Angeles:20260205T220000
DTSTAMP:20260423T084606
CREATED:20251208T204512Z
LAST-MODIFIED:20260110T013730Z
UID:10871-1770285600-1770328800@valleyviewcasino.com
SUMMARY:MOREPLAY® Mania
DESCRIPTION:RECEIVE YOUR MOREPLAY® ON SELECT THURSDAYS AND FRIDAYS\nQualified Players Club members can receive up to $100 in instant MOREPLAY® during MOREPLAY Mania! Redeem your MOREPLAY®on select Thursdays and Fridays each month. Visit the Players Club to learn more on how to qualify for this exciting prize.
URL:https://valleyviewcasino.com/promotion/moreplay-mania-2/
LOCATION:Players Club
ATTACH;FMTTYPE=image/jpeg:https://valleyviewcasino.com/wp-content/uploads/2025/04/PromotionsThumbnails_500x34018-1.jpg
END:VEVENT
BEGIN:VEVENT
DTSTART;TZID=America/Los_Angeles:20251023T170000
DTEND;TZID=America/Los_Angeles:20251023T210000
DTSTAMP:20260423T084606
CREATED:20250410T203429Z
LAST-MODIFIED:20260102T191414Z
UID:2920-1761238800-1761253200@valleyviewcasino.com
SUMMARY:$500\,000 Pick Three Thursdays
DESCRIPTION:$500\,000 Pick Three Thursdays\nJoin us for our $500\,000 Pick Three Thursdays promotion where you could win a huge grand prize. Every hour from 5:00pm – 8:00pm\, five guests will win MOREPLAY®\, and then at 9:00pm\, three guests will each select three envelopes for a chance at $500\,000. So join us at the Main Stage Bar every Thursday from 5:00pm – 9:00pm to win big!
URL:https://valleyviewcasino.com/promotion/pick-three-thursdays/
LOCATION:Main Stage Bar
ATTACH;FMTTYPE=image/webp:https://valleyviewcasino.com/wp-content/uploads/2025/04/promo-tile-3thursdays.jpg.webp
END:VEVENT
BEGIN:VEVENT
DTSTART;TZID=America/Los_Angeles:20260205T100000
DTEND;TZID=America/Los_Angeles:20260205T220000
DTSTAMP:20260423T084606
CREATED:20251208T204512Z
LAST-MODIFIED:20260110T013730Z
UID:10871-1770285600-1770328800@valleyviewcasino.com
SUMMARY:MOREPLAY® Mania
DESCRIPTION:RECEIVE YOUR MOREPLAY® ON SELECT THURSDAYS AND FRIDAYS\nQualified Players Club members can receive up to $100 in instant MOREPLAY® during MOREPLAY Mania! Redeem your MOREPLAY®on select Thursdays and Fridays each month. Visit the Players Club to learn more on how to qualify for this exciting prize.
URL:https://valleyviewcasino.com/promotion/moreplay-mania-2/
LOCATION:Players Club
ATTACH;FMTTYPE=image/jpeg:https://valleyviewcasino.com/wp-content/uploads/2025/04/PromotionsThumbnails_500x34018-1.jpg
END:VEVENT
BEGIN:VEVENT
DTSTART;TZID=America/Los_Angeles:20260207T100000
DTEND;TZID=America/Los_Angeles:20260207T220000
DTSTAMP:20260423T084606
CREATED:20250411T210205Z
LAST-MODIFIED:20260105T190320Z
UID:3462-1770458400-1770501600@valleyviewcasino.com
SUMMARY:VIP Monthly Gift
DESCRIPTION:VIP Monthly Gift\nQualified Players Club members can pick up their VIP Monthly Gift this month. Learn more about how to qualify for this exciting prize by visiting a friendly team member at the Players Club.
URL:https://valleyviewcasino.com/promotion/vip-monthly-gift/
LOCATION:Players Club
ATTACH;FMTTYPE=image/jpeg:https://valleyviewcasino.com/wp-content/uploads/2025/04/PromotionsThumbnails_500x34020.jpg
END:VEVENT
BEGIN:VEVENT
DTSTART;TZID=America/Los_Angeles:20260207T100000
DTEND;TZID=America/Los_Angeles:20260207T220000
DTSTAMP:20260423T084606
CREATED:20250411T210205Z
LAST-MODIFIED:20260105T190320Z
UID:3462-1770458400-1770501600@valleyviewcasino.com
SUMMARY:VIP Monthly Gift
DESCRIPTION:VIP Monthly Gift\nQualified Players Club members can pick up their VIP Monthly Gift this month. Learn more about how to qualify for this exciting prize by visiting a friendly team member at the Players Club.
URL:https://valleyviewcasino.com/promotion/vip-monthly-gift/
LOCATION:Players Club
ATTACH;FMTTYPE=image/jpeg:https://valleyviewcasino.com/wp-content/uploads/2025/04/PromotionsThumbnails_500x34020.jpg
END:VEVENT
BEGIN:VEVENT
DTSTART;TZID=America/Los_Angeles:20260202T100000
DTEND;TZID=America/Los_Angeles:20260202T220000
DTSTAMP:20260423T084606
CREATED:20260203T003338Z
LAST-MODIFIED:20260203T003457Z
UID:11606-1770026400-1770069600@valleyviewcasino.com
SUMMARY:Gift of the Month
DESCRIPTION:Gift of the Month\nQualified Players Club members are invited to receive their Gift of the Month on select Mondays and Tuesdays. Each month\, we award a different exclusive gift as just one more way to thank you for your loyalty. Visit our Players Club to learn how you can qualify to receive your Gift of the Month.
URL:https://valleyviewcasino.com/promotion/gift-of-the-month/
LOCATION:Hotel Event Center
ATTACH;FMTTYPE=image/webp:https://valleyviewcasino.com/wp-content/uploads/2025/04/promo_tile_gom.jpg.webp
END:VEVENT
BEGIN:VEVENT
DTSTART;TZID=America/Los_Angeles:20260202T100000
DTEND;TZID=America/Los_Angeles:20260202T220000
DTSTAMP:20260423T084606
CREATED:20260203T003338Z
LAST-MODIFIED:20260203T003457Z
UID:11606-1770026400-1770069600@valleyviewcasino.com
SUMMARY:Gift of the Month
DESCRIPTION:Gift of the Month\nQualified Players Club members are invited to receive their Gift of the Month on select Mondays and Tuesdays. Each month\, we award a different exclusive gift as just one more way to thank you for your loyalty. Visit our Players Club to learn how you can qualify to receive your Gift of the Month.
URL:https://valleyviewcasino.com/promotion/gift-of-the-month/
LOCATION:Hotel Event Center
ATTACH;FMTTYPE=image/webp:https://valleyviewcasino.com/wp-content/uploads/2025/04/promo_tile_gom.jpg.webp
END:VEVENT
BEGIN:VEVENT
DTSTART;VALUE=DATE:20260204
DTEND;VALUE=DATE:20260205
DTSTAMP:20260423T084606
CREATED:20260203T003941Z
LAST-MODIFIED:20260203T003941Z
UID:11612-1770163200-1770249599@valleyviewcasino.com
SUMMARY:Wear It Wednesdays
DESCRIPTION:Wear It Wednesdays\nPlayers Club members can join us on Wednesdays each month to receive a free Valley View Casino T-shirt\, available in assorted colors and sizes. Please visit our Players Club to learn how you can qualify for your free T-shirt on Wear It Wednesdays.
URL:https://valleyviewcasino.com/promotion/wear-it-wednesdays-3/
LOCATION:Players Club
CATEGORIES:Wear It Wednesday
ATTACH;FMTTYPE=image/jpeg:https://valleyviewcasino.com/wp-content/uploads/2025/04/wear-it-wed-jan2023-promo-1-e1673576013819.jpg
END:VEVENT
BEGIN:VEVENT
DTSTART;VALUE=DATE:20251023
DTEND;VALUE=DATE:20251024
DTSTAMP:20260423T084606
CREATED:20250802T012253Z
LAST-MODIFIED:20250802T012325Z
UID:9964-1761177600-1761263999@valleyviewcasino.com
SUMMARY:Thirsty Thursdays
DESCRIPTION:Thirsty Thursdays\nJoin us at Valley View Casino & Hotel for our Thirsty Thursdays promotion where you can sip on $5 ice-cold draft beer\, $6 hand-selected wines and $7 refreshing cocktails. Enjoy these specials throughout the casino and at any of our restaurants or bars.
URL:https://valleyviewcasino.com/promotion/thirsty-thursdays-2/
LOCATION:Throughout the Casino
ATTACH;FMTTYPE=image/webp:https://valleyviewcasino.com/wp-content/uploads/2025/04/promo-tile-thirstythursdays.jpg.webp
END:VEVENT
BEGIN:VEVENT
DTSTART;TZID=America/Los_Angeles:20260201T100000
DTEND;TZID=America/Los_Angeles:20260201T220000
DTSTAMP:20260423T084606
CREATED:20260203T003717Z
LAST-MODIFIED:20260203T003717Z
UID:11609-1769940000-1769983200@valleyviewcasino.com
SUMMARY:Quik $10
DESCRIPTION:Quik $10\nWin $10 instantly at Valley View Casino’s exciting kiosk game\, Quik $10! Invited guests will swipe their Players Club card at any of our guest service kiosks to win!
URL:https://valleyviewcasino.com/promotion/quik-10-2/
LOCATION:Any of Our Guest Service Kiosks
ATTACH;FMTTYPE=image/jpeg:https://valleyviewcasino.com/wp-content/uploads/2025/04/june-quik10-thumb-2022.jpg
END:VEVENT
BEGIN:VEVENT
DTSTART;TZID=America/Los_Angeles:20251023T170000
DTEND;TZID=America/Los_Angeles:20251023T210000
DTSTAMP:20260423T084606
CREATED:20250410T203429Z
LAST-MODIFIED:20260102T191414Z
UID:2920-1761238800-1761253200@valleyviewcasino.com
SUMMARY:$500\,000 Pick Three Thursdays
DESCRIPTION:$500\,000 Pick Three Thursdays\nJoin us for our $500\,000 Pick Three Thursdays promotion where you could win a huge grand prize. Every hour from 5:00pm – 8:00pm\, five guests will win MOREPLAY®\, and then at 9:00pm\, three guests will each select three envelopes for a chance at $500\,000. So join us at the Main Stage Bar every Thursday from 5:00pm – 9:00pm to win big!
URL:https://valleyviewcasino.com/promotion/pick-three-thursdays/
LOCATION:Main Stage Bar
ATTACH;FMTTYPE=image/webp:https://valleyviewcasino.com/wp-content/uploads/2025/04/promo-tile-3thursdays.jpg.webp
END:VEVENT
BEGIN:VEVENT
DTSTART;TZID=America/Los_Angeles:20260201T100000
DTEND;TZID=America/Los_Angeles:20260201T220000
DTSTAMP:20260423T084606
CREATED:20260203T003717Z
LAST-MODIFIED:20260203T003717Z
UID:11609-1769940000-1769983200@valleyviewcasino.com
SUMMARY:Quik $10
DESCRIPTION:Quik $10\nWin $10 instantly at Valley View Casino’s exciting kiosk game\, Quik $10! Invited guests will swipe their Players Club card at any of our guest service kiosks to win!
URL:https://valleyviewcasino.com/promotion/quik-10-2/
LOCATION:Any of Our Guest Service Kiosks
ATTACH;FMTTYPE=image/jpeg:https://valleyviewcasino.com/wp-content/uploads/2025/04/june-quik10-thumb-2022.jpg
END:VEVENT
BEGIN:VEVENT
DTSTART;TZID=America/Los_Angeles:20260213T170000
DTEND;TZID=America/Los_Angeles:20260213T220000
DTSTAMP:20260423T084606
CREATED:20260121T213103Z
LAST-MODIFIED:20260121T213103Z
UID:11433-1771002000-1771020000@valleyviewcasino.com
SUMMARY:Dave's $250\,000 Weekend Windfall
DESCRIPTION:JOIN US AND WIN BIG AT DAVE’S $250\,000 WEEKEND WINDFALL\nPlease join us for Dave’s $250\,000 Weekend Windfall happening on Friday\, February 13. Every hour from 5:00pm – 9:00pm\, 10 winners will spin to win $200 – $1\,000 each in MOREPLAY®. Then\, at 10:00pm\, 10 additional lucky winners will spin to win $25\,000 each. Be at our Main Stage Bar to win big!
URL:https://valleyviewcasino.com/promotion/daves-250000-weekend-windfall-2/
LOCATION:Main Stage Bar
ATTACH;FMTTYPE=image/webp:https://valleyviewcasino.com/wp-content/uploads/2025/04/promo-tile-windfall.jpg.webp
END:VEVENT
BEGIN:VEVENT
DTSTART;TZID=America/Los_Angeles:20260202T100000
DTEND;TZID=America/Los_Angeles:20260202T220000
DTSTAMP:20260423T084606
CREATED:20260203T003338Z
LAST-MODIFIED:20260203T003457Z
UID:11606-1770026400-1770069600@valleyviewcasino.com
SUMMARY:Gift of the Month
DESCRIPTION:Gift of the Month\nQualified Players Club members are invited to receive their Gift of the Month on select Mondays and Tuesdays. Each month\, we award a different exclusive gift as just one more way to thank you for your loyalty. Visit our Players Club to learn how you can qualify to receive your Gift of the Month.
URL:https://valleyviewcasino.com/promotion/gift-of-the-month/
LOCATION:Hotel Event Center
ATTACH;FMTTYPE=image/webp:https://valleyviewcasino.com/wp-content/uploads/2025/04/promo_tile_gom.jpg.webp
END:VEVENT
BEGIN:VEVENT
DTSTART;TZID=America/Los_Angeles:20260202T100000
DTEND;TZID=America/Los_Angeles:20260202T220000
DTSTAMP:20260423T084606
CREATED:20260203T003338Z
LAST-MODIFIED:20260203T003457Z
UID:11606-1770026400-1770069600@valleyviewcasino.com
SUMMARY:Gift of the Month
DESCRIPTION:Gift of the Month\nQualified Players Club members are invited to receive their Gift of the Month on select Mondays and Tuesdays. Each month\, we award a different exclusive gift as just one more way to thank you for your loyalty. Visit our Players Club to learn how you can qualify to receive your Gift of the Month.
URL:https://valleyviewcasino.com/promotion/gift-of-the-month/
LOCATION:Hotel Event Center
ATTACH;FMTTYPE=image/webp:https://valleyviewcasino.com/wp-content/uploads/2025/04/promo_tile_gom.jpg.webp
END:VEVENT
BEGIN:VEVENT
DTSTART;VALUE=DATE:20260204
DTEND;VALUE=DATE:20260205
DTSTAMP:20260423T084606
CREATED:20260203T003941Z
LAST-MODIFIED:20260203T003941Z
UID:11612-1770163200-1770249599@valleyviewcasino.com
SUMMARY:Wear It Wednesdays
DESCRIPTION:Wear It Wednesdays\nPlayers Club members can join us on Wednesdays each month to receive a free Valley View Casino T-shirt\, available in assorted colors and sizes. Please visit our Players Club to learn how you can qualify for your free T-shirt on Wear It Wednesdays.
URL:https://valleyviewcasino.com/promotion/wear-it-wednesdays-3/
LOCATION:Players Club
CATEGORIES:Wear It Wednesday
ATTACH;FMTTYPE=image/jpeg:https://valleyviewcasino.com/wp-content/uploads/2025/04/wear-it-wed-jan2023-promo-1-e1673576013819.jpg
END:VEVENT
BEGIN:VEVENT
DTSTART;VALUE=DATE:20251023
DTEND;VALUE=DATE:20251024
DTSTAMP:20260423T084606
CREATED:20250802T012253Z
LAST-MODIFIED:20250802T012325Z
UID:9964-1761177600-1761263999@valleyviewcasino.com
SUMMARY:Thirsty Thursdays
DESCRIPTION:Thirsty Thursdays\nJoin us at Valley View Casino & Hotel for our Thirsty Thursdays promotion where you can sip on $5 ice-cold draft beer\, $6 hand-selected wines and $7 refreshing cocktails. Enjoy these specials throughout the casino and at any of our restaurants or bars.
URL:https://valleyviewcasino.com/promotion/thirsty-thursdays-2/
LOCATION:Throughout the Casino
ATTACH;FMTTYPE=image/webp:https://valleyviewcasino.com/wp-content/uploads/2025/04/promo-tile-thirstythursdays.jpg.webp
END:VEVENT
BEGIN:VEVENT
DTSTART;TZID=America/Los_Angeles:20260108T100000
DTEND;TZID=America/Los_Angeles:20260108T220000
DTSTAMP:20260423T084606
CREATED:20250411T205926Z
LAST-MODIFIED:20260110T013524Z
UID:3454-1767866400-1767909600@valleyviewcasino.com
SUMMARY:VIP Loyalty Gift
DESCRIPTION:VIP Loyalty Gift\nAs a thank you for your loyalty\, invited guests are welcome to pick up their VIP Loyalty Gift on select Thursday and Fridays! Please see any of our friendly Players Club team members to learn how you can receive your free monthly gift.
URL:https://valleyviewcasino.com/promotion/vip-loyalty-gift/
LOCATION:Hotel Event Center
ATTACH;FMTTYPE=image/jpeg:https://valleyviewcasino.com/wp-content/uploads/2025/04/PromotionsThumbnails_500x34019.jpg
END:VEVENT
BEGIN:VEVENT
DTSTART;TZID=America/Los_Angeles:20251023T170000
DTEND;TZID=America/Los_Angeles:20251023T210000
DTSTAMP:20260423T084606
CREATED:20250410T203429Z
LAST-MODIFIED:20260102T191414Z
UID:2920-1761238800-1761253200@valleyviewcasino.com
SUMMARY:$500\,000 Pick Three Thursdays
DESCRIPTION:$500\,000 Pick Three Thursdays\nJoin us for our $500\,000 Pick Three Thursdays promotion where you could win a huge grand prize. Every hour from 5:00pm – 8:00pm\, five guests will win MOREPLAY®\, and then at 9:00pm\, three guests will each select three envelopes for a chance at $500\,000. So join us at the Main Stage Bar every Thursday from 5:00pm – 9:00pm to win big!
URL:https://valleyviewcasino.com/promotion/pick-three-thursdays/
LOCATION:Main Stage Bar
ATTACH;FMTTYPE=image/webp:https://valleyviewcasino.com/wp-content/uploads/2025/04/promo-tile-3thursdays.jpg.webp
END:VEVENT
BEGIN:VEVENT
DTSTART;TZID=America/Los_Angeles:20260108T100000
DTEND;TZID=America/Los_Angeles:20260108T220000
DTSTAMP:20260423T084606
CREATED:20250411T205926Z
LAST-MODIFIED:20260110T013524Z
UID:3454-1767866400-1767909600@valleyviewcasino.com
SUMMARY:VIP Loyalty Gift
DESCRIPTION:VIP Loyalty Gift\nAs a thank you for your loyalty\, invited guests are welcome to pick up their VIP Loyalty Gift on select Thursday and Fridays! Please see any of our friendly Players Club team members to learn how you can receive your free monthly gift.
URL:https://valleyviewcasino.com/promotion/vip-loyalty-gift/
LOCATION:Hotel Event Center
ATTACH;FMTTYPE=image/jpeg:https://valleyviewcasino.com/wp-content/uploads/2025/04/PromotionsThumbnails_500x34019.jpg
END:VEVENT
BEGIN:VEVENT
DTSTART;TZID=America/Los_Angeles:20260221T100000
DTEND;TZID=America/Los_Angeles:20260221T220000
DTSTAMP:20260423T084606
CREATED:20260126T212859Z
LAST-MODIFIED:20260126T214532Z
UID:11491-1771668000-1771711200@valleyviewcasino.com
SUMMARY:Carousel of Cash Mystery Envelope
DESCRIPTION:Carousel of Cash Mystery Envelope\nAre you ready to discover your prize? Invited guests will bring in their unopened Mystery Envelope to the Players Club to reveal a prize of $10 – $1\,000.
URL:https://valleyviewcasino.com/promotion/carousel-of-cash-mystery-envelope-3/
LOCATION:Players Club
ATTACH;FMTTYPE=image/jpeg:https://valleyviewcasino.com/wp-content/uploads/2026/01/Mystery-Envelope-Tier-1-Feb2026.jpg
END:VEVENT
BEGIN:VEVENT
DTSTART;TZID=America/Los_Angeles:20260221T100000
DTEND;TZID=America/Los_Angeles:20260221T220000
DTSTAMP:20260423T084606
CREATED:20260126T212859Z
LAST-MODIFIED:20260126T214532Z
UID:11491-1771668000-1771711200@valleyviewcasino.com
SUMMARY:Carousel of Cash Mystery Envelope
DESCRIPTION:Carousel of Cash Mystery Envelope\nAre you ready to discover your prize? Invited guests will bring in their unopened Mystery Envelope to the Players Club to reveal a prize of $10 – $1\,000.
URL:https://valleyviewcasino.com/promotion/carousel-of-cash-mystery-envelope-3/
LOCATION:Players Club
ATTACH;FMTTYPE=image/jpeg:https://valleyviewcasino.com/wp-content/uploads/2026/01/Mystery-Envelope-Tier-1-Feb2026.jpg
END:VEVENT
BEGIN:VEVENT
DTSTART;TZID=America/Los_Angeles:20260202T100000
DTEND;TZID=America/Los_Angeles:20260202T220000
DTSTAMP:20260423T084606
CREATED:20260203T003338Z
LAST-MODIFIED:20260203T003457Z
UID:11606-1770026400-1770069600@valleyviewcasino.com
SUMMARY:Gift of the Month
DESCRIPTION:Gift of the Month\nQualified Players Club members are invited to receive their Gift of the Month on select Mondays and Tuesdays. Each month\, we award a different exclusive gift as just one more way to thank you for your loyalty. Visit our Players Club to learn how you can qualify to receive your Gift of the Month.
URL:https://valleyviewcasino.com/promotion/gift-of-the-month/
LOCATION:Hotel Event Center
ATTACH;FMTTYPE=image/webp:https://valleyviewcasino.com/wp-content/uploads/2025/04/promo_tile_gom.jpg.webp
END:VEVENT
BEGIN:VEVENT
DTSTART;TZID=America/Los_Angeles:20260202T100000
DTEND;TZID=America/Los_Angeles:20260202T220000
DTSTAMP:20260423T084606
CREATED:20260203T003338Z
LAST-MODIFIED:20260203T003457Z
UID:11606-1770026400-1770069600@valleyviewcasino.com
SUMMARY:Gift of the Month
DESCRIPTION:Gift of the Month\nQualified Players Club members are invited to receive their Gift of the Month on select Mondays and Tuesdays. Each month\, we award a different exclusive gift as just one more way to thank you for your loyalty. Visit our Players Club to learn how you can qualify to receive your Gift of the Month.
URL:https://valleyviewcasino.com/promotion/gift-of-the-month/
LOCATION:Hotel Event Center
ATTACH;FMTTYPE=image/webp:https://valleyviewcasino.com/wp-content/uploads/2025/04/promo_tile_gom.jpg.webp
END:VEVENT
BEGIN:VEVENT
DTSTART;VALUE=DATE:20260204
DTEND;VALUE=DATE:20260205
DTSTAMP:20260423T084606
CREATED:20260203T003941Z
LAST-MODIFIED:20260203T003941Z
UID:11612-1770163200-1770249599@valleyviewcasino.com
SUMMARY:Wear It Wednesdays
DESCRIPTION:Wear It Wednesdays\nPlayers Club members can join us on Wednesdays each month to receive a free Valley View Casino T-shirt\, available in assorted colors and sizes. Please visit our Players Club to learn how you can qualify for your free T-shirt on Wear It Wednesdays.
URL:https://valleyviewcasino.com/promotion/wear-it-wednesdays-3/
LOCATION:Players Club
CATEGORIES:Wear It Wednesday
ATTACH;FMTTYPE=image/jpeg:https://valleyviewcasino.com/wp-content/uploads/2025/04/wear-it-wed-jan2023-promo-1-e1673576013819.jpg
END:VEVENT
BEGIN:VEVENT
DTSTART;VALUE=DATE:20251023
DTEND;VALUE=DATE:20251024
DTSTAMP:20260423T084606
CREATED:20250802T012253Z
LAST-MODIFIED:20250802T012325Z
UID:9964-1761177600-1761263999@valleyviewcasino.com
SUMMARY:Thirsty Thursdays
DESCRIPTION:Thirsty Thursdays\nJoin us at Valley View Casino & Hotel for our Thirsty Thursdays promotion where you can sip on $5 ice-cold draft beer\, $6 hand-selected wines and $7 refreshing cocktails. Enjoy these specials throughout the casino and at any of our restaurants or bars.
URL:https://valleyviewcasino.com/promotion/thirsty-thursdays-2/
LOCATION:Throughout the Casino
ATTACH;FMTTYPE=image/webp:https://valleyviewcasino.com/wp-content/uploads/2025/04/promo-tile-thirstythursdays.jpg.webp
END:VEVENT
BEGIN:VEVENT
DTSTART;TZID=America/Los_Angeles:20260201T100000
DTEND;TZID=America/Los_Angeles:20260201T220000
DTSTAMP:20260423T084606
CREATED:20260203T003717Z
LAST-MODIFIED:20260203T003717Z
UID:11609-1769940000-1769983200@valleyviewcasino.com
SUMMARY:Quik $10
DESCRIPTION:Quik $10\nWin $10 instantly at Valley View Casino’s exciting kiosk game\, Quik $10! Invited guests will swipe their Players Club card at any of our guest service kiosks to win!
URL:https://valleyviewcasino.com/promotion/quik-10-2/
LOCATION:Any of Our Guest Service Kiosks
ATTACH;FMTTYPE=image/jpeg:https://valleyviewcasino.com/wp-content/uploads/2025/04/june-quik10-thumb-2022.jpg
END:VEVENT
BEGIN:VEVENT
DTSTART;TZID=America/Los_Angeles:20251023T170000
DTEND;TZID=America/Los_Angeles:20251023T210000
DTSTAMP:20260423T084606
CREATED:20250410T203429Z
LAST-MODIFIED:20260102T191414Z
UID:2920-1761238800-1761253200@valleyviewcasino.com
SUMMARY:$500\,000 Pick Three Thursdays
DESCRIPTION:$500\,000 Pick Three Thursdays\nJoin us for our $500\,000 Pick Three Thursdays promotion where you could win a huge grand prize. Every hour from 5:00pm – 8:00pm\, five guests will win MOREPLAY®\, and then at 9:00pm\, three guests will each select three envelopes for a chance at $500\,000. So join us at the Main Stage Bar every Thursday from 5:00pm – 9:00pm to win big!
URL:https://valleyviewcasino.com/promotion/pick-three-thursdays/
LOCATION:Main Stage Bar
ATTACH;FMTTYPE=image/webp:https://valleyviewcasino.com/wp-content/uploads/2025/04/promo-tile-3thursdays.jpg.webp
END:VEVENT
BEGIN:VEVENT
DTSTART;TZID=America/Los_Angeles:20260201T100000
DTEND;TZID=America/Los_Angeles:20260201T220000
DTSTAMP:20260423T084606
CREATED:20260203T003717Z
LAST-MODIFIED:20260203T003717Z
UID:11609-1769940000-1769983200@valleyviewcasino.com
SUMMARY:Quik $10
DESCRIPTION:Quik $10\nWin $10 instantly at Valley View Casino’s exciting kiosk game\, Quik $10! Invited guests will swipe their Players Club card at any of our guest service kiosks to win!
URL:https://valleyviewcasino.com/promotion/quik-10-2/
LOCATION:Any of Our Guest Service Kiosks
ATTACH;FMTTYPE=image/jpeg:https://valleyviewcasino.com/wp-content/uploads/2025/04/june-quik10-thumb-2022.jpg
END:VEVENT
END:VCALENDAR