BEGIN:VCALENDAR
VERSION:2.0
PRODID:-//Valley View Casino &amp; Hotel - ECPv6.15.20//NONSGML v1.0//EN
CALSCALE:GREGORIAN
METHOD:PUBLISH
X-ORIGINAL-URL:https://valleyviewcasino.com
X-WR-CALDESC:Events for Valley View Casino &amp; Hotel
REFRESH-INTERVAL;VALUE=DURATION:PT1H
X-Robots-Tag:noindex
X-PUBLISHED-TTL:PT1H
BEGIN:VTIMEZONE
TZID:America/Los_Angeles
BEGIN:DAYLIGHT
TZOFFSETFROM:-0800
TZOFFSETTO:-0700
TZNAME:PDT
DTSTART:20250309T100000
END:DAYLIGHT
BEGIN:STANDARD
TZOFFSETFROM:-0700
TZOFFSETTO:-0800
TZNAME:PST
DTSTART:20251102T090000
END:STANDARD
BEGIN:DAYLIGHT
TZOFFSETFROM:-0800
TZOFFSETTO:-0700
TZNAME:PDT
DTSTART:20260308T100000
END:DAYLIGHT
BEGIN:STANDARD
TZOFFSETFROM:-0700
TZOFFSETTO:-0800
TZNAME:PST
DTSTART:20261101T090000
END:STANDARD
BEGIN:DAYLIGHT
TZOFFSETFROM:-0800
TZOFFSETTO:-0700
TZNAME:PDT
DTSTART:20270314T100000
END:DAYLIGHT
BEGIN:STANDARD
TZOFFSETFROM:-0700
TZOFFSETTO:-0800
TZNAME:PST
DTSTART:20271107T090000
END:STANDARD
END:VTIMEZONE
BEGIN:VEVENT
DTSTART;TZID=America/Los_Angeles:20260813T170000
DTEND;TZID=America/Los_Angeles:20260813T210000
DTSTAMP:20260424T084108
CREATED:20260330T180432Z
LAST-MODIFIED:20260423T173633Z
UID:10002114-1786640400-1786654800@valleyviewcasino.com
SUMMARY:$500\,000 Pick Three Thursdays
DESCRIPTION:$500\,000 Pick Three Thursdays\nJoin us for our $500\,000 Pick Three Thursdays promotion where you could win a huge grand prize. Every hour from 5:00pm – 8:00pm\, five guests will win MOREPLAY®\, and then at 9:00pm\, three guests will each select three envelopes for a chance at $500\,000. So join us at the Main Stage Bar every Thursday from 5:00pm – 9:00pm to win big!
URL:https://valleyviewcasino.com/promotion/500000-pick-three-thursdays/2026-08-13/
LOCATION:Main Stage Bar
ATTACH;FMTTYPE=image/webp:https://valleyviewcasino.com/wp-content/uploads/2025/04/promo-tile-3thursdays.jpg.webp
END:VEVENT
BEGIN:VEVENT
DTSTART;TZID=America/Los_Angeles:20260820T170000
DTEND;TZID=America/Los_Angeles:20260820T210000
DTSTAMP:20260424T084108
CREATED:20260330T180432Z
LAST-MODIFIED:20260423T173633Z
UID:10002115-1787245200-1787259600@valleyviewcasino.com
SUMMARY:$500\,000 Pick Three Thursdays
DESCRIPTION:$500\,000 Pick Three Thursdays\nJoin us for our $500\,000 Pick Three Thursdays promotion where you could win a huge grand prize. Every hour from 5:00pm – 8:00pm\, five guests will win MOREPLAY®\, and then at 9:00pm\, three guests will each select three envelopes for a chance at $500\,000. So join us at the Main Stage Bar every Thursday from 5:00pm – 9:00pm to win big!
URL:https://valleyviewcasino.com/promotion/500000-pick-three-thursdays/2026-08-20/
LOCATION:Main Stage Bar
ATTACH;FMTTYPE=image/webp:https://valleyviewcasino.com/wp-content/uploads/2025/04/promo-tile-3thursdays.jpg.webp
END:VEVENT
BEGIN:VEVENT
DTSTART;TZID=America/Los_Angeles:20260827T170000
DTEND;TZID=America/Los_Angeles:20260827T210000
DTSTAMP:20260424T084108
CREATED:20260330T180432Z
LAST-MODIFIED:20260423T173633Z
UID:10002116-1787850000-1787864400@valleyviewcasino.com
SUMMARY:$500\,000 Pick Three Thursdays
DESCRIPTION:$500\,000 Pick Three Thursdays\nJoin us for our $500\,000 Pick Three Thursdays promotion where you could win a huge grand prize. Every hour from 5:00pm – 8:00pm\, five guests will win MOREPLAY®\, and then at 9:00pm\, three guests will each select three envelopes for a chance at $500\,000. So join us at the Main Stage Bar every Thursday from 5:00pm – 9:00pm to win big!
URL:https://valleyviewcasino.com/promotion/500000-pick-three-thursdays/2026-08-27/
LOCATION:Main Stage Bar
ATTACH;FMTTYPE=image/webp:https://valleyviewcasino.com/wp-content/uploads/2025/04/promo-tile-3thursdays.jpg.webp
END:VEVENT
BEGIN:VEVENT
DTSTART;TZID=America/Los_Angeles:20260903T170000
DTEND;TZID=America/Los_Angeles:20260903T210000
DTSTAMP:20260424T084108
CREATED:20260330T180432Z
LAST-MODIFIED:20260423T173633Z
UID:10002117-1788454800-1788469200@valleyviewcasino.com
SUMMARY:$500\,000 Pick Three Thursdays
DESCRIPTION:$500\,000 Pick Three Thursdays\nJoin us for our $500\,000 Pick Three Thursdays promotion where you could win a huge grand prize. Every hour from 5:00pm – 8:00pm\, five guests will win MOREPLAY®\, and then at 9:00pm\, three guests will each select three envelopes for a chance at $500\,000. So join us at the Main Stage Bar every Thursday from 5:00pm – 9:00pm to win big!
URL:https://valleyviewcasino.com/promotion/500000-pick-three-thursdays/2026-09-03/
LOCATION:Main Stage Bar
ATTACH;FMTTYPE=image/webp:https://valleyviewcasino.com/wp-content/uploads/2025/04/promo-tile-3thursdays.jpg.webp
END:VEVENT
BEGIN:VEVENT
DTSTART;TZID=America/Los_Angeles:20260910T170000
DTEND;TZID=America/Los_Angeles:20260910T210000
DTSTAMP:20260424T084108
CREATED:20260330T180432Z
LAST-MODIFIED:20260423T173633Z
UID:10002118-1789059600-1789074000@valleyviewcasino.com
SUMMARY:$500\,000 Pick Three Thursdays
DESCRIPTION:$500\,000 Pick Three Thursdays\nJoin us for our $500\,000 Pick Three Thursdays promotion where you could win a huge grand prize. Every hour from 5:00pm – 8:00pm\, five guests will win MOREPLAY®\, and then at 9:00pm\, three guests will each select three envelopes for a chance at $500\,000. So join us at the Main Stage Bar every Thursday from 5:00pm – 9:00pm to win big!
URL:https://valleyviewcasino.com/promotion/500000-pick-three-thursdays/2026-09-10/
LOCATION:Main Stage Bar
ATTACH;FMTTYPE=image/webp:https://valleyviewcasino.com/wp-content/uploads/2025/04/promo-tile-3thursdays.jpg.webp
END:VEVENT
BEGIN:VEVENT
DTSTART;TZID=America/Los_Angeles:20260917T170000
DTEND;TZID=America/Los_Angeles:20260917T210000
DTSTAMP:20260424T084108
CREATED:20260330T180432Z
LAST-MODIFIED:20260423T173633Z
UID:10002119-1789664400-1789678800@valleyviewcasino.com
SUMMARY:$500\,000 Pick Three Thursdays
DESCRIPTION:$500\,000 Pick Three Thursdays\nJoin us for our $500\,000 Pick Three Thursdays promotion where you could win a huge grand prize. Every hour from 5:00pm – 8:00pm\, five guests will win MOREPLAY®\, and then at 9:00pm\, three guests will each select three envelopes for a chance at $500\,000. So join us at the Main Stage Bar every Thursday from 5:00pm – 9:00pm to win big!
URL:https://valleyviewcasino.com/promotion/500000-pick-three-thursdays/2026-09-17/
LOCATION:Main Stage Bar
ATTACH;FMTTYPE=image/webp:https://valleyviewcasino.com/wp-content/uploads/2025/04/promo-tile-3thursdays.jpg.webp
END:VEVENT
BEGIN:VEVENT
DTSTART;TZID=America/Los_Angeles:20260924T170000
DTEND;TZID=America/Los_Angeles:20260924T210000
DTSTAMP:20260424T084108
CREATED:20260330T180432Z
LAST-MODIFIED:20260423T173633Z
UID:10002120-1790269200-1790283600@valleyviewcasino.com
SUMMARY:$500\,000 Pick Three Thursdays
DESCRIPTION:$500\,000 Pick Three Thursdays\nJoin us for our $500\,000 Pick Three Thursdays promotion where you could win a huge grand prize. Every hour from 5:00pm – 8:00pm\, five guests will win MOREPLAY®\, and then at 9:00pm\, three guests will each select three envelopes for a chance at $500\,000. So join us at the Main Stage Bar every Thursday from 5:00pm – 9:00pm to win big!
URL:https://valleyviewcasino.com/promotion/500000-pick-three-thursdays/2026-09-24/
LOCATION:Main Stage Bar
ATTACH;FMTTYPE=image/webp:https://valleyviewcasino.com/wp-content/uploads/2025/04/promo-tile-3thursdays.jpg.webp
END:VEVENT
BEGIN:VEVENT
DTSTART;TZID=America/Los_Angeles:20261001T170000
DTEND;TZID=America/Los_Angeles:20261001T210000
DTSTAMP:20260424T084108
CREATED:20260330T180432Z
LAST-MODIFIED:20260423T173633Z
UID:10002121-1790874000-1790888400@valleyviewcasino.com
SUMMARY:$500\,000 Pick Three Thursdays
DESCRIPTION:$500\,000 Pick Three Thursdays\nJoin us for our $500\,000 Pick Three Thursdays promotion where you could win a huge grand prize. Every hour from 5:00pm – 8:00pm\, five guests will win MOREPLAY®\, and then at 9:00pm\, three guests will each select three envelopes for a chance at $500\,000. So join us at the Main Stage Bar every Thursday from 5:00pm – 9:00pm to win big!
URL:https://valleyviewcasino.com/promotion/500000-pick-three-thursdays/2026-10-01/
LOCATION:Main Stage Bar
ATTACH;FMTTYPE=image/webp:https://valleyviewcasino.com/wp-content/uploads/2025/04/promo-tile-3thursdays.jpg.webp
END:VEVENT
BEGIN:VEVENT
DTSTART;TZID=America/Los_Angeles:20261008T170000
DTEND;TZID=America/Los_Angeles:20261008T210000
DTSTAMP:20260424T084108
CREATED:20260330T180432Z
LAST-MODIFIED:20260423T173633Z
UID:10002122-1791478800-1791493200@valleyviewcasino.com
SUMMARY:$500\,000 Pick Three Thursdays
DESCRIPTION:$500\,000 Pick Three Thursdays\nJoin us for our $500\,000 Pick Three Thursdays promotion where you could win a huge grand prize. Every hour from 5:00pm – 8:00pm\, five guests will win MOREPLAY®\, and then at 9:00pm\, three guests will each select three envelopes for a chance at $500\,000. So join us at the Main Stage Bar every Thursday from 5:00pm – 9:00pm to win big!
URL:https://valleyviewcasino.com/promotion/500000-pick-three-thursdays/2026-10-08/
LOCATION:Main Stage Bar
ATTACH;FMTTYPE=image/webp:https://valleyviewcasino.com/wp-content/uploads/2025/04/promo-tile-3thursdays.jpg.webp
END:VEVENT
BEGIN:VEVENT
DTSTART;TZID=America/Los_Angeles:20261015T170000
DTEND;TZID=America/Los_Angeles:20261015T210000
DTSTAMP:20260424T084108
CREATED:20260330T180432Z
LAST-MODIFIED:20260423T173633Z
UID:10002123-1792083600-1792098000@valleyviewcasino.com
SUMMARY:$500\,000 Pick Three Thursdays
DESCRIPTION:$500\,000 Pick Three Thursdays\nJoin us for our $500\,000 Pick Three Thursdays promotion where you could win a huge grand prize. Every hour from 5:00pm – 8:00pm\, five guests will win MOREPLAY®\, and then at 9:00pm\, three guests will each select three envelopes for a chance at $500\,000. So join us at the Main Stage Bar every Thursday from 5:00pm – 9:00pm to win big!
URL:https://valleyviewcasino.com/promotion/500000-pick-three-thursdays/2026-10-15/
LOCATION:Main Stage Bar
ATTACH;FMTTYPE=image/webp:https://valleyviewcasino.com/wp-content/uploads/2025/04/promo-tile-3thursdays.jpg.webp
END:VEVENT
BEGIN:VEVENT
DTSTART;TZID=America/Los_Angeles:20261022T170000
DTEND;TZID=America/Los_Angeles:20261022T210000
DTSTAMP:20260424T084108
CREATED:20260330T180432Z
LAST-MODIFIED:20260423T173633Z
UID:10002124-1792688400-1792702800@valleyviewcasino.com
SUMMARY:$500\,000 Pick Three Thursdays
DESCRIPTION:$500\,000 Pick Three Thursdays\nJoin us for our $500\,000 Pick Three Thursdays promotion where you could win a huge grand prize. Every hour from 5:00pm – 8:00pm\, five guests will win MOREPLAY®\, and then at 9:00pm\, three guests will each select three envelopes for a chance at $500\,000. So join us at the Main Stage Bar every Thursday from 5:00pm – 9:00pm to win big!
URL:https://valleyviewcasino.com/promotion/500000-pick-three-thursdays/2026-10-22/
LOCATION:Main Stage Bar
ATTACH;FMTTYPE=image/webp:https://valleyviewcasino.com/wp-content/uploads/2025/04/promo-tile-3thursdays.jpg.webp
END:VEVENT
BEGIN:VEVENT
DTSTART;TZID=America/Los_Angeles:20261029T170000
DTEND;TZID=America/Los_Angeles:20261029T210000
DTSTAMP:20260424T084108
CREATED:20260330T180432Z
LAST-MODIFIED:20260423T173633Z
UID:10002125-1793293200-1793307600@valleyviewcasino.com
SUMMARY:$500\,000 Pick Three Thursdays
DESCRIPTION:$500\,000 Pick Three Thursdays\nJoin us for our $500\,000 Pick Three Thursdays promotion where you could win a huge grand prize. Every hour from 5:00pm – 8:00pm\, five guests will win MOREPLAY®\, and then at 9:00pm\, three guests will each select three envelopes for a chance at $500\,000. So join us at the Main Stage Bar every Thursday from 5:00pm – 9:00pm to win big!
URL:https://valleyviewcasino.com/promotion/500000-pick-three-thursdays/2026-10-29/
LOCATION:Main Stage Bar
ATTACH;FMTTYPE=image/webp:https://valleyviewcasino.com/wp-content/uploads/2025/04/promo-tile-3thursdays.jpg.webp
END:VEVENT
BEGIN:VEVENT
DTSTART;TZID=America/Los_Angeles:20261105T170000
DTEND;TZID=America/Los_Angeles:20261105T210000
DTSTAMP:20260424T084108
CREATED:20260330T180432Z
LAST-MODIFIED:20260423T173633Z
UID:10002126-1793898000-1793912400@valleyviewcasino.com
SUMMARY:$500\,000 Pick Three Thursdays
DESCRIPTION:$500\,000 Pick Three Thursdays\nJoin us for our $500\,000 Pick Three Thursdays promotion where you could win a huge grand prize. Every hour from 5:00pm – 8:00pm\, five guests will win MOREPLAY®\, and then at 9:00pm\, three guests will each select three envelopes for a chance at $500\,000. So join us at the Main Stage Bar every Thursday from 5:00pm – 9:00pm to win big!
URL:https://valleyviewcasino.com/promotion/500000-pick-three-thursdays/2026-11-05/
LOCATION:Main Stage Bar
ATTACH;FMTTYPE=image/webp:https://valleyviewcasino.com/wp-content/uploads/2025/04/promo-tile-3thursdays.jpg.webp
END:VEVENT
BEGIN:VEVENT
DTSTART;TZID=America/Los_Angeles:20261112T170000
DTEND;TZID=America/Los_Angeles:20261112T210000
DTSTAMP:20260424T084108
CREATED:20260330T180432Z
LAST-MODIFIED:20260423T173633Z
UID:10002127-1794502800-1794517200@valleyviewcasino.com
SUMMARY:$500\,000 Pick Three Thursdays
DESCRIPTION:$500\,000 Pick Three Thursdays\nJoin us for our $500\,000 Pick Three Thursdays promotion where you could win a huge grand prize. Every hour from 5:00pm – 8:00pm\, five guests will win MOREPLAY®\, and then at 9:00pm\, three guests will each select three envelopes for a chance at $500\,000. So join us at the Main Stage Bar every Thursday from 5:00pm – 9:00pm to win big!
URL:https://valleyviewcasino.com/promotion/500000-pick-three-thursdays/2026-11-12/
LOCATION:Main Stage Bar
ATTACH;FMTTYPE=image/webp:https://valleyviewcasino.com/wp-content/uploads/2025/04/promo-tile-3thursdays.jpg.webp
END:VEVENT
BEGIN:VEVENT
DTSTART;TZID=America/Los_Angeles:20261119T170000
DTEND;TZID=America/Los_Angeles:20261119T210000
DTSTAMP:20260424T084108
CREATED:20260330T180432Z
LAST-MODIFIED:20260423T173633Z
UID:10002128-1795107600-1795122000@valleyviewcasino.com
SUMMARY:$500\,000 Pick Three Thursdays
DESCRIPTION:$500\,000 Pick Three Thursdays\nJoin us for our $500\,000 Pick Three Thursdays promotion where you could win a huge grand prize. Every hour from 5:00pm – 8:00pm\, five guests will win MOREPLAY®\, and then at 9:00pm\, three guests will each select three envelopes for a chance at $500\,000. So join us at the Main Stage Bar every Thursday from 5:00pm – 9:00pm to win big!
URL:https://valleyviewcasino.com/promotion/500000-pick-three-thursdays/2026-11-19/
LOCATION:Main Stage Bar
ATTACH;FMTTYPE=image/webp:https://valleyviewcasino.com/wp-content/uploads/2025/04/promo-tile-3thursdays.jpg.webp
END:VEVENT
BEGIN:VEVENT
DTSTART;TZID=America/Los_Angeles:20261126T170000
DTEND;TZID=America/Los_Angeles:20261126T210000
DTSTAMP:20260424T084108
CREATED:20260330T180432Z
LAST-MODIFIED:20260423T173633Z
UID:10002129-1795712400-1795726800@valleyviewcasino.com
SUMMARY:$500\,000 Pick Three Thursdays
DESCRIPTION:$500\,000 Pick Three Thursdays\nJoin us for our $500\,000 Pick Three Thursdays promotion where you could win a huge grand prize. Every hour from 5:00pm – 8:00pm\, five guests will win MOREPLAY®\, and then at 9:00pm\, three guests will each select three envelopes for a chance at $500\,000. So join us at the Main Stage Bar every Thursday from 5:00pm – 9:00pm to win big!
URL:https://valleyviewcasino.com/promotion/500000-pick-three-thursdays/2026-11-26/
LOCATION:Main Stage Bar
ATTACH;FMTTYPE=image/webp:https://valleyviewcasino.com/wp-content/uploads/2025/04/promo-tile-3thursdays.jpg.webp
END:VEVENT
BEGIN:VEVENT
DTSTART;TZID=America/Los_Angeles:20261203T170000
DTEND;TZID=America/Los_Angeles:20261203T210000
DTSTAMP:20260424T084108
CREATED:20260330T180432Z
LAST-MODIFIED:20260423T173633Z
UID:10002130-1796317200-1796331600@valleyviewcasino.com
SUMMARY:$500\,000 Pick Three Thursdays
DESCRIPTION:$500\,000 Pick Three Thursdays\nJoin us for our $500\,000 Pick Three Thursdays promotion where you could win a huge grand prize. Every hour from 5:00pm – 8:00pm\, five guests will win MOREPLAY®\, and then at 9:00pm\, three guests will each select three envelopes for a chance at $500\,000. So join us at the Main Stage Bar every Thursday from 5:00pm – 9:00pm to win big!
URL:https://valleyviewcasino.com/promotion/500000-pick-three-thursdays/2026-12-03/
LOCATION:Main Stage Bar
ATTACH;FMTTYPE=image/webp:https://valleyviewcasino.com/wp-content/uploads/2025/04/promo-tile-3thursdays.jpg.webp
END:VEVENT
BEGIN:VEVENT
DTSTART;TZID=America/Los_Angeles:20261210T170000
DTEND;TZID=America/Los_Angeles:20261210T210000
DTSTAMP:20260424T084108
CREATED:20260330T180432Z
LAST-MODIFIED:20260423T173633Z
UID:10002131-1796922000-1796936400@valleyviewcasino.com
SUMMARY:$500\,000 Pick Three Thursdays
DESCRIPTION:$500\,000 Pick Three Thursdays\nJoin us for our $500\,000 Pick Three Thursdays promotion where you could win a huge grand prize. Every hour from 5:00pm – 8:00pm\, five guests will win MOREPLAY®\, and then at 9:00pm\, three guests will each select three envelopes for a chance at $500\,000. So join us at the Main Stage Bar every Thursday from 5:00pm – 9:00pm to win big!
URL:https://valleyviewcasino.com/promotion/500000-pick-three-thursdays/2026-12-10/
LOCATION:Main Stage Bar
ATTACH;FMTTYPE=image/webp:https://valleyviewcasino.com/wp-content/uploads/2025/04/promo-tile-3thursdays.jpg.webp
END:VEVENT
BEGIN:VEVENT
DTSTART;TZID=America/Los_Angeles:20261217T170000
DTEND;TZID=America/Los_Angeles:20261217T210000
DTSTAMP:20260424T084108
CREATED:20260330T180432Z
LAST-MODIFIED:20260423T173633Z
UID:10002132-1797526800-1797541200@valleyviewcasino.com
SUMMARY:$500\,000 Pick Three Thursdays
DESCRIPTION:$500\,000 Pick Three Thursdays\nJoin us for our $500\,000 Pick Three Thursdays promotion where you could win a huge grand prize. Every hour from 5:00pm – 8:00pm\, five guests will win MOREPLAY®\, and then at 9:00pm\, three guests will each select three envelopes for a chance at $500\,000. So join us at the Main Stage Bar every Thursday from 5:00pm – 9:00pm to win big!
URL:https://valleyviewcasino.com/promotion/500000-pick-three-thursdays/2026-12-17/
LOCATION:Main Stage Bar
ATTACH;FMTTYPE=image/webp:https://valleyviewcasino.com/wp-content/uploads/2025/04/promo-tile-3thursdays.jpg.webp
END:VEVENT
BEGIN:VEVENT
DTSTART;TZID=America/Los_Angeles:20261224T170000
DTEND;TZID=America/Los_Angeles:20261224T210000
DTSTAMP:20260424T084108
CREATED:20260330T180432Z
LAST-MODIFIED:20260423T173633Z
UID:10002133-1798131600-1798146000@valleyviewcasino.com
SUMMARY:$500\,000 Pick Three Thursdays
DESCRIPTION:$500\,000 Pick Three Thursdays\nJoin us for our $500\,000 Pick Three Thursdays promotion where you could win a huge grand prize. Every hour from 5:00pm – 8:00pm\, five guests will win MOREPLAY®\, and then at 9:00pm\, three guests will each select three envelopes for a chance at $500\,000. So join us at the Main Stage Bar every Thursday from 5:00pm – 9:00pm to win big!
URL:https://valleyviewcasino.com/promotion/500000-pick-three-thursdays/2026-12-24/
LOCATION:Main Stage Bar
ATTACH;FMTTYPE=image/webp:https://valleyviewcasino.com/wp-content/uploads/2025/04/promo-tile-3thursdays.jpg.webp
END:VEVENT
BEGIN:VEVENT
DTSTART;TZID=America/Los_Angeles:20261231T170000
DTEND;TZID=America/Los_Angeles:20261231T210000
DTSTAMP:20260424T084108
CREATED:20260330T180432Z
LAST-MODIFIED:20260423T173633Z
UID:10002134-1798736400-1798750800@valleyviewcasino.com
SUMMARY:$500\,000 Pick Three Thursdays
DESCRIPTION:$500\,000 Pick Three Thursdays\nJoin us for our $500\,000 Pick Three Thursdays promotion where you could win a huge grand prize. Every hour from 5:00pm – 8:00pm\, five guests will win MOREPLAY®\, and then at 9:00pm\, three guests will each select three envelopes for a chance at $500\,000. So join us at the Main Stage Bar every Thursday from 5:00pm – 9:00pm to win big!
URL:https://valleyviewcasino.com/promotion/500000-pick-three-thursdays/2026-12-31/
LOCATION:Main Stage Bar
ATTACH;FMTTYPE=image/webp:https://valleyviewcasino.com/wp-content/uploads/2025/04/promo-tile-3thursdays.jpg.webp
END:VEVENT
END:VCALENDAR